<VRTDataset rasterXSize="260001" rasterYSize="185001">
  <SRS dataAxisToSRSAxisMapping="1,2">PROJCS["unknown",GEOGCS["Unknown_based_on_GRS80_ellipsoid",DATUM["Unknown_based_on_GRS80_ellipsoid",SPHEROID["GRS 1980",6378137,298.257222101]],PRIMEM["Greenwich",0],UNIT["degree",0.0174532925199433,AUTHORITY["EPSG","9122"]]],PROJECTION["Lambert_Conformal_Conic_2SP"],PARAMETER["latitude_of_origin",65],PARAMETER["central_meridian",-19],PARAMETER["standard_parallel_1",64.25],PARAMETER["standard_parallel_2",65.75],PARAMETER["false_easting",2700000],PARAMETER["false_northing",300000],UNIT["metre",1,AUTHORITY["EPSG","9001"]],AXIS["Easting",EAST],AXIS["Northing",NORTH]]</SRS>
  <GeoTransform>  2.4400000000000000e+06,  2.0000000000000000e+00,  0.0000000000000000e+00,  4.8000000000000000e+05,  0.0000000000000000e+00, -2.0000000000000000e+00</GeoTransform>
  <VRTRasterBand dataType="Float32" band="1">
    <Metadata>
      <MDI key="STATISTICS_APPROXIMATE">YES</MDI>
      <MDI key="STATISTICS_MAXIMUM">1736.3364257812</MDI>
      <MDI key="STATISTICS_MEAN">500.09943152559</MDI>
      <MDI key="STATISTICS_MINIMUM">-8.338680267334</MDI>
      <MDI key="STATISTICS_STDDEV">371.55107806865</MDI>
      <MDI key="STATISTICS_VALID_PERCENT">53.67</MDI>
    </Metadata>
    <NoDataValue>-3.4028234663852886e+38</NoDataValue>
    <ColorInterp>Gray</ColorInterp>
    <ComplexSource>
      <SourceFilename relativeToVRT="1">IslandsDEMv1.0_2x2m_zmasl_isn2016_00.tif</SourceFilename>
      <SourceBand>1</SourceBand>
      <SourceProperties RasterXSize="25000" RasterYSize="25000" DataType="Float32" BlockXSize="512" BlockYSize="512" />
      <SrcRect xOff="0" yOff="0" xSize="25000" ySize="25000" />
      <DstRect xOff="0" yOff="0" xSize="25000" ySize="25000" />
      <NODATA>-3.4028234663852886e+38</NODATA>
    </ComplexSource>
    <ComplexSource>
      <SourceFilename relativeToVRT="1">IslandsDEMv1.0_2x2m_zmasl_isn2016_01.tif</SourceFilename>
      <SourceBand>1</SourceBand>
      <SourceProperties RasterXSize="25000" RasterYSize="25000" DataType="Float32" BlockXSize="512" BlockYSize="512" />
      <SrcRect xOff="0" yOff="0" xSize="25000" ySize="25000" />
      <DstRect xOff="25000" yOff="0" xSize="25000" ySize="25000" />
      <NODATA>-3.4028234663852886e+38</NODATA>
    </ComplexSource>
    <ComplexSource>
      <SourceFilename relativeToVRT="1">IslandsDEMv1.0_2x2m_zmasl_isn2016_02.tif</SourceFilename>
      <SourceBand>1</SourceBand>
      <SourceProperties RasterXSize="25000" RasterYSize="25000" DataType="Float32" BlockXSize="512" BlockYSize="512" />
      <SrcRect xOff="0" yOff="0" xSize="25000" ySize="25000" />
      <DstRect xOff="50000" yOff="0" xSize="25000" ySize="25000" />
      <NODATA>-3.4028234663852886e+38</NODATA>
    </ComplexSource>
    <ComplexSource>
      <SourceFilename relativeToVRT="1">IslandsDEMv1.0_2x2m_zmasl_isn2016_05.tif</SourceFilename>
      <SourceBand>1</SourceBand>
      <SourceProperties RasterXSize="25000" RasterYSize="25000" DataType="Float32" BlockXSize="512" BlockYSize="512" />
      <SrcRect xOff="0" yOff="0" xSize="25000" ySize="25000" />
      <DstRect xOff="125000" yOff="0" xSize="25000" ySize="25000" />
      <NODATA>-3.4028234663852886e+38</NODATA>
    </ComplexSource>
    <ComplexSource>
      <SourceFilename relativeToVRT="1">IslandsDEMv1.0_2x2m_zmasl_isn2016_06.tif</SourceFilename>
      <SourceBand>1</SourceBand>
      <SourceProperties RasterXSize="25000" RasterYSize="25000" DataType="Float32" BlockXSize="512" BlockYSize="512" />
      <SrcRect xOff="0" yOff="0" xSize="25000" ySize="25000" />
      <DstRect xOff="150000" yOff="0" xSize="25000" ySize="25000" />
      <NODATA>-3.4028234663852886e+38</NODATA>
    </ComplexSource>
    <ComplexSource>
      <SourceFilename relativeToVRT="1">IslandsDEMv1.0_2x2m_zmasl_isn2016_07.tif</SourceFilename>
      <SourceBand>1</SourceBand>
      <SourceProperties RasterXSize="25000" RasterYSize="25000" DataType="Float32" BlockXSize="512" BlockYSize="512" />
      <SrcRect xOff="0" yOff="0" xSize="25000" ySize="25000" />
      <DstRect xOff="175000" yOff="0" xSize="25000" ySize="25000" />
      <NODATA>-3.4028234663852886e+38</NODATA>
    </ComplexSource>
    <ComplexSource>
      <SourceFilename relativeToVRT="1">IslandsDEMv1.0_2x2m_zmasl_isn2016_08.tif</SourceFilename>
      <SourceBand>1</SourceBand>
      <SourceProperties RasterXSize="25000" RasterYSize="25000" DataType="Float32" BlockXSize="512" BlockYSize="512" />
      <SrcRect xOff="0" yOff="0" xSize="25000" ySize="25000" />
      <DstRect xOff="200000" yOff="0" xSize="25000" ySize="25000" />
      <NODATA>-3.4028234663852886e+38</NODATA>
    </ComplexSource>
    <ComplexSource>
      <SourceFilename relativeToVRT="1">IslandsDEMv1.0_2x2m_zmasl_isn2016_09.tif</SourceFilename>
      <SourceBand>1</SourceBand>
      <SourceProperties RasterXSize="25000" RasterYSize="25000" DataType="Float32" BlockXSize="512" BlockYSize="512" />
      <SrcRect xOff="0" yOff="0" xSize="25000" ySize="25000" />
      <DstRect xOff="225000" yOff="0" xSize="25000" ySize="25000" />
      <NODATA>-3.4028234663852886e+38</NODATA>
    </ComplexSource>
    <ComplexSource>
      <SourceFilename relativeToVRT="1">IslandsDEMv1.0_2x2m_zmasl_isn2016_11.tif</SourceFilename>
      <SourceBand>1</SourceBand>
      <SourceProperties RasterXSize="25000" RasterYSize="25000" DataType="Float32" BlockXSize="512" BlockYSize="512" />
      <SrcRect xOff="0" yOff="0" xSize="25000" ySize="25000" />
      <DstRect xOff="0" yOff="25000" xSize="25000" ySize="25000" />
      <NODATA>-3.4028234663852886e+38</NODATA>
    </ComplexSource>
    <ComplexSource>
      <SourceFilename relativeToVRT="1">IslandsDEMv1.0_2x2m_zmasl_isn2016_12.tif</SourceFilename>
      <SourceBand>1</SourceBand>
      <SourceProperties RasterXSize="25000" RasterYSize="25000" DataType="Float32" BlockXSize="512" BlockYSize="512" />
      <SrcRect xOff="0" yOff="0" xSize="25000" ySize="25000" />
      <DstRect xOff="25000" yOff="25000" xSize="25000" ySize="25000" />
      <NODATA>-3.4028234663852886e+38</NODATA>
    </ComplexSource>
    <ComplexSource>
      <SourceFilename relativeToVRT="1">IslandsDEMv1.0_2x2m_zmasl_isn2016_13.tif</SourceFilename>
      <SourceBand>1</SourceBand>
      <SourceProperties RasterXSize="25000" RasterYSize="25000" DataType="Float32" BlockXSize="512" BlockYSize="512" />
      <SrcRect xOff="0" yOff="0" xSize="25000" ySize="25000" />
      <DstRect xOff="50000" yOff="25000" xSize="25000" ySize="25000" />
      <NODATA>-3.4028234663852886e+38</NODATA>
    </ComplexSource>
    <ComplexSource>
      <SourceFilename relativeToVRT="1">IslandsDEMv1.0_2x2m_zmasl_isn2016_14.tif</SourceFilename>
      <SourceBand>1</SourceBand>
      <SourceProperties RasterXSize="25000" RasterYSize="25000" DataType="Float32" BlockXSize="512" BlockYSize="512" />
      <SrcRect xOff="0" yOff="0" xSize="25000" ySize="25000" />
      <DstRect xOff="75000" yOff="25000" xSize="25000" ySize="25000" />
      <NODATA>-3.4028234663852886e+38</NODATA>
    </ComplexSource>
    <ComplexSource>
      <SourceFilename relativeToVRT="1">IslandsDEMv1.0_2x2m_zmasl_isn2016_15.tif</SourceFilename>
      <SourceBand>1</SourceBand>
      <SourceProperties RasterXSize="25000" RasterYSize="25000" DataType="Float32" BlockXSize="512" BlockYSize="512" />
      <SrcRect xOff="0" yOff="0" xSize="25000" ySize="25000" />
      <DstRect xOff="100000" yOff="25000" xSize="25000" ySize="25000" />
      <NODATA>-3.4028234663852886e+38</NODATA>
    </ComplexSource>
    <ComplexSource>
      <SourceFilename relativeToVRT="1">IslandsDEMv1.0_2x2m_zmasl_isn2016_16.tif</SourceFilename>
      <SourceBand>1</SourceBand>
      <SourceProperties RasterXSize="25000" RasterYSize="25000" DataType="Float32" BlockXSize="512" BlockYSize="512" />
      <SrcRect xOff="0" yOff="0" xSize="25000" ySize="25000" />
      <DstRect xOff="125000" yOff="25000" xSize="25000" ySize="25000" />
      <NODATA>-3.4028234663852886e+38</NODATA>
    </ComplexSource>
    <ComplexSource>
      <SourceFilename relativeToVRT="1">IslandsDEMv1.0_2x2m_zmasl_isn2016_17.tif</SourceFilename>
      <SourceBand>1</SourceBand>
      <SourceProperties RasterXSize="25000" RasterYSize="25000" DataType="Float32" BlockXSize="512" BlockYSize="512" />
      <SrcRect xOff="0" yOff="0" xSize="25000" ySize="25000" />
      <DstRect xOff="150000" yOff="25000" xSize="25000" ySize="25000" />
      <NODATA>-3.4028234663852886e+38</NODATA>
    </ComplexSource>
    <ComplexSource>
      <SourceFilename relativeToVRT="1">IslandsDEMv1.0_2x2m_zmasl_isn2016_18.tif</SourceFilename>
      <SourceBand>1</SourceBand>
      <SourceProperties RasterXSize="25000" RasterYSize="25000" DataType="Float32" BlockXSize="512" BlockYSize="512" />
      <SrcRect xOff="0" yOff="0" xSize="25000" ySize="25000" />
      <DstRect xOff="175000" yOff="25000" xSize="25000" ySize="25000" />
      <NODATA>-3.4028234663852886e+38</NODATA>
    </ComplexSource>
    <ComplexSource>
      <SourceFilename relativeToVRT="1">IslandsDEMv1.0_2x2m_zmasl_isn2016_19.tif</SourceFilename>
      <SourceBand>1</SourceBand>
      <SourceProperties RasterXSize="25000" RasterYSize="25000" DataType="Float32" BlockXSize="512" BlockYSize="512" />
      <SrcRect xOff="0" yOff="0" xSize="25000" ySize="25000" />
      <DstRect xOff="200000" yOff="25000" xSize="25000" ySize="25000" />
      <NODATA>-3.4028234663852886e+38</NODATA>
    </ComplexSource>
    <ComplexSource>
      <SourceFilename relativeToVRT="1">IslandsDEMv1.0_2x2m_zmasl_isn2016_20.tif</SourceFilename>
      <SourceBand>1</SourceBand>
      <SourceProperties RasterXSize="25000" RasterYSize="25000" DataType="Float32" BlockXSize="512" BlockYSize="512" />
      <SrcRect xOff="0" yOff="0" xSize="25000" ySize="25000" />
      <DstRect xOff="225000" yOff="25000" xSize="25000" ySize="25000" />
      <NODATA>-3.4028234663852886e+38</NODATA>
    </ComplexSource>
    <ComplexSource>
      <SourceFilename relativeToVRT="1">IslandsDEMv1.0_2x2m_zmasl_isn2016_22.tif</SourceFilename>
      <SourceBand>1</SourceBand>
      <SourceProperties RasterXSize="25000" RasterYSize="25000" DataType="Float32" BlockXSize="512" BlockYSize="512" />
      <SrcRect xOff="0" yOff="0" xSize="25000" ySize="25000" />
      <DstRect xOff="0" yOff="50000" xSize="25000" ySize="25000" />
      <NODATA>-3.4028234663852886e+38</NODATA>
    </ComplexSource>
    <ComplexSource>
      <SourceFilename relativeToVRT="1">IslandsDEMv1.0_2x2m_zmasl_isn2016_23.tif</SourceFilename>
      <SourceBand>1</SourceBand>
      <SourceProperties RasterXSize="25000" RasterYSize="25000" DataType="Float32" BlockXSize="512" BlockYSize="512" />
      <SrcRect xOff="0" yOff="0" xSize="25000" ySize="25000" />
      <DstRect xOff="25000" yOff="50000" xSize="25000" ySize="25000" />
      <NODATA>-3.4028234663852886e+38</NODATA>
    </ComplexSource>
    <ComplexSource>
      <SourceFilename relativeToVRT="1">IslandsDEMv1.0_2x2m_zmasl_isn2016_24.tif</SourceFilename>
      <SourceBand>1</SourceBand>
      <SourceProperties RasterXSize="25000" RasterYSize="25000" DataType="Float32" BlockXSize="512" BlockYSize="512" />
      <SrcRect xOff="0" yOff="0" xSize="25000" ySize="25000" />
      <DstRect xOff="50000" yOff="50000" xSize="25000" ySize="25000" />
      <NODATA>-3.4028234663852886e+38</NODATA>
    </ComplexSource>
    <ComplexSource>
      <SourceFilename relativeToVRT="1">IslandsDEMv1.0_2x2m_zmasl_isn2016_25.tif</SourceFilename>
      <SourceBand>1</SourceBand>
      <SourceProperties RasterXSize="25000" RasterYSize="25000" DataType="Float32" BlockXSize="512" BlockYSize="512" />
      <SrcRect xOff="0" yOff="0" xSize="25000" ySize="25000" />
      <DstRect xOff="75000" yOff="50000" xSize="25000" ySize="25000" />
      <NODATA>-3.4028234663852886e+38</NODATA>
    </ComplexSource>
    <ComplexSource>
      <SourceFilename relativeToVRT="1">IslandsDEMv1.0_2x2m_zmasl_isn2016_26.tif</SourceFilename>
      <SourceBand>1</SourceBand>
      <SourceProperties RasterXSize="25000" RasterYSize="25000" DataType="Float32" BlockXSize="512" BlockYSize="512" />
      <SrcRect xOff="0" yOff="0" xSize="25000" ySize="25000" />
      <DstRect xOff="100000" yOff="50000" xSize="25000" ySize="25000" />
      <NODATA>-3.4028234663852886e+38</NODATA>
    </ComplexSource>
    <ComplexSource>
      <SourceFilename relativeToVRT="1">IslandsDEMv1.0_2x2m_zmasl_isn2016_27.tif</SourceFilename>
      <SourceBand>1</SourceBand>
      <SourceProperties RasterXSize="25000" RasterYSize="25000" DataType="Float32" BlockXSize="512" BlockYSize="512" />
      <SrcRect xOff="0" yOff="0" xSize="25000" ySize="25000" />
      <DstRect xOff="125000" yOff="50000" xSize="25000" ySize="25000" />
      <NODATA>-3.4028234663852886e+38</NODATA>
    </ComplexSource>
    <ComplexSource>
      <SourceFilename relativeToVRT="1">IslandsDEMv1.0_2x2m_zmasl_isn2016_28.tif</SourceFilename>
      <SourceBand>1</SourceBand>
      <SourceProperties RasterXSize="25000" RasterYSize="25000" DataType="Float32" BlockXSize="512" BlockYSize="512" />
      <SrcRect xOff="0" yOff="0" xSize="25000" ySize="25000" />
      <DstRect xOff="150000" yOff="50000" xSize="25000" ySize="25000" />
      <NODATA>-3.4028234663852886e+38</NODATA>
    </ComplexSource>
    <ComplexSource>
      <SourceFilename relativeToVRT="1">IslandsDEMv1.0_2x2m_zmasl_isn2016_29.tif</SourceFilename>
      <SourceBand>1</SourceBand>
      <SourceProperties RasterXSize="25000" RasterYSize="25000" DataType="Float32" BlockXSize="512" BlockYSize="512" />
      <SrcRect xOff="0" yOff="0" xSize="25000" ySize="25000" />
      <DstRect xOff="175000" yOff="50000" xSize="25000" ySize="25000" />
      <NODATA>-3.4028234663852886e+38</NODATA>
    </ComplexSource>
    <ComplexSource>
      <SourceFilename relativeToVRT="1">IslandsDEMv1.0_2x2m_zmasl_isn2016_30.tif</SourceFilename>
      <SourceBand>1</SourceBand>
      <SourceProperties RasterXSize="25000" RasterYSize="25000" DataType="Float32" BlockXSize="512" BlockYSize="512" />
      <SrcRect xOff="0" yOff="0" xSize="25000" ySize="25000" />
      <DstRect xOff="200000" yOff="50000" xSize="25000" ySize="25000" />
      <NODATA>-3.4028234663852886e+38</NODATA>
    </ComplexSource>
    <ComplexSource>
      <SourceFilename relativeToVRT="1">IslandsDEMv1.0_2x2m_zmasl_isn2016_31.tif</SourceFilename>
      <SourceBand>1</SourceBand>
      <SourceProperties RasterXSize="25000" RasterYSize="25000" DataType="Float32" BlockXSize="512" BlockYSize="512" />
      <SrcRect xOff="0" yOff="0" xSize="25000" ySize="25000" />
      <DstRect xOff="225000" yOff="50000" xSize="25000" ySize="25000" />
      <NODATA>-3.4028234663852886e+38</NODATA>
    </ComplexSource>
    <ComplexSource>
      <SourceFilename relativeToVRT="1">IslandsDEMv1.0_2x2m_zmasl_isn2016_32.tif</SourceFilename>
      <SourceBand>1</SourceBand>
      <SourceProperties RasterXSize="10001" RasterYSize="25000" DataType="Float32" BlockXSize="512" BlockYSize="512" />
      <SrcRect xOff="0" yOff="0" xSize="10001" ySize="25000" />
      <DstRect xOff="250000" yOff="50000" xSize="10001" ySize="25000" />
      <NODATA>-3.4028234663852886e+38</NODATA>
    </ComplexSource>
    <ComplexSource>
      <SourceFilename relativeToVRT="1">IslandsDEMv1.0_2x2m_zmasl_isn2016_33.tif</SourceFilename>
      <SourceBand>1</SourceBand>
      <SourceProperties RasterXSize="25000" RasterYSize="25000" DataType="Float32" BlockXSize="512" BlockYSize="512" />
      <SrcRect xOff="0" yOff="0" xSize="25000" ySize="25000" />
      <DstRect xOff="0" yOff="75000" xSize="25000" ySize="25000" />
      <NODATA>-3.4028234663852886e+38</NODATA>
    </ComplexSource>
    <ComplexSource>
      <SourceFilename relativeToVRT="1">IslandsDEMv1.0_2x2m_zmasl_isn2016_34.tif</SourceFilename>
      <SourceBand>1</SourceBand>
      <SourceProperties RasterXSize="25000" RasterYSize="25000" DataType="Float32" BlockXSize="512" BlockYSize="512" />
      <SrcRect xOff="0" yOff="0" xSize="25000" ySize="25000" />
      <DstRect xOff="25000" yOff="75000" xSize="25000" ySize="25000" />
      <NODATA>-3.4028234663852886e+38</NODATA>
    </ComplexSource>
    <ComplexSource>
      <SourceFilename relativeToVRT="1">IslandsDEMv1.0_2x2m_zmasl_isn2016_35.tif</SourceFilename>
      <SourceBand>1</SourceBand>
      <SourceProperties RasterXSize="25000" RasterYSize="25000" DataType="Float32" BlockXSize="512" BlockYSize="512" />
      <SrcRect xOff="0" yOff="0" xSize="25000" ySize="25000" />
      <DstRect xOff="50000" yOff="75000" xSize="25000" ySize="25000" />
      <NODATA>-3.4028234663852886e+38</NODATA>
    </ComplexSource>
    <ComplexSource>
      <SourceFilename relativeToVRT="1">IslandsDEMv1.0_2x2m_zmasl_isn2016_36.tif</SourceFilename>
      <SourceBand>1</SourceBand>
      <SourceProperties RasterXSize="25000" RasterYSize="25000" DataType="Float32" BlockXSize="512" BlockYSize="512" />
      <SrcRect xOff="0" yOff="0" xSize="25000" ySize="25000" />
      <DstRect xOff="75000" yOff="75000" xSize="25000" ySize="25000" />
      <NODATA>-3.4028234663852886e+38</NODATA>
    </ComplexSource>
    <ComplexSource>
      <SourceFilename relativeToVRT="1">IslandsDEMv1.0_2x2m_zmasl_isn2016_37.tif</SourceFilename>
      <SourceBand>1</SourceBand>
      <SourceProperties RasterXSize="25000" RasterYSize="25000" DataType="Float32" BlockXSize="512" BlockYSize="512" />
      <SrcRect xOff="0" yOff="0" xSize="25000" ySize="25000" />
      <DstRect xOff="100000" yOff="75000" xSize="25000" ySize="25000" />
      <NODATA>-3.4028234663852886e+38</NODATA>
    </ComplexSource>
    <ComplexSource>
      <SourceFilename relativeToVRT="1">IslandsDEMv1.0_2x2m_zmasl_isn2016_38.tif</SourceFilename>
      <SourceBand>1</SourceBand>
      <SourceProperties RasterXSize="25000" RasterYSize="25000" DataType="Float32" BlockXSize="512" BlockYSize="512" />
      <SrcRect xOff="0" yOff="0" xSize="25000" ySize="25000" />
      <DstRect xOff="125000" yOff="75000" xSize="25000" ySize="25000" />
      <NODATA>-3.4028234663852886e+38</NODATA>
    </ComplexSource>
    <ComplexSource>
      <SourceFilename relativeToVRT="1">IslandsDEMv1.0_2x2m_zmasl_isn2016_39.tif</SourceFilename>
      <SourceBand>1</SourceBand>
      <SourceProperties RasterXSize="25000" RasterYSize="25000" DataType="Float32" BlockXSize="512" BlockYSize="512" />
      <SrcRect xOff="0" yOff="0" xSize="25000" ySize="25000" />
      <DstRect xOff="150000" yOff="75000" xSize="25000" ySize="25000" />
      <NODATA>-3.4028234663852886e+38</NODATA>
    </ComplexSource>
    <ComplexSource>
      <SourceFilename relativeToVRT="1">IslandsDEMv1.0_2x2m_zmasl_isn2016_40.tif</SourceFilename>
      <SourceBand>1</SourceBand>
      <SourceProperties RasterXSize="25000" RasterYSize="25000" DataType="Float32" BlockXSize="512" BlockYSize="512" />
      <SrcRect xOff="0" yOff="0" xSize="25000" ySize="25000" />
      <DstRect xOff="175000" yOff="75000" xSize="25000" ySize="25000" />
      <NODATA>-3.4028234663852886e+38</NODATA>
    </ComplexSource>
    <ComplexSource>
      <SourceFilename relativeToVRT="1">IslandsDEMv1.0_2x2m_zmasl_isn2016_41.tif</SourceFilename>
      <SourceBand>1</SourceBand>
      <SourceProperties RasterXSize="25000" RasterYSize="25000" DataType="Float32" BlockXSize="512" BlockYSize="512" />
      <SrcRect xOff="0" yOff="0" xSize="25000" ySize="25000" />
      <DstRect xOff="200000" yOff="75000" xSize="25000" ySize="25000" />
      <NODATA>-3.4028234663852886e+38</NODATA>
    </ComplexSource>
    <ComplexSource>
      <SourceFilename relativeToVRT="1">IslandsDEMv1.0_2x2m_zmasl_isn2016_42.tif</SourceFilename>
      <SourceBand>1</SourceBand>
      <SourceProperties RasterXSize="25000" RasterYSize="25000" DataType="Float32" BlockXSize="512" BlockYSize="512" />
      <SrcRect xOff="0" yOff="0" xSize="25000" ySize="25000" />
      <DstRect xOff="225000" yOff="75000" xSize="25000" ySize="25000" />
      <NODATA>-3.4028234663852886e+38</NODATA>
    </ComplexSource>
    <ComplexSource>
      <SourceFilename relativeToVRT="1">IslandsDEMv1.0_2x2m_zmasl_isn2016_43.tif</SourceFilename>
      <SourceBand>1</SourceBand>
      <SourceProperties RasterXSize="10001" RasterYSize="25000" DataType="Float32" BlockXSize="512" BlockYSize="512" />
      <SrcRect xOff="0" yOff="0" xSize="10001" ySize="25000" />
      <DstRect xOff="250000" yOff="75000" xSize="10001" ySize="25000" />
      <NODATA>-3.4028234663852886e+38</NODATA>
    </ComplexSource>
    <ComplexSource>
      <SourceFilename relativeToVRT="1">IslandsDEMv1.0_2x2m_zmasl_isn2016_44.tif</SourceFilename>
      <SourceBand>1</SourceBand>
      <SourceProperties RasterXSize="25000" RasterYSize="25000" DataType="Float32" BlockXSize="512" BlockYSize="512" />
      <SrcRect xOff="0" yOff="0" xSize="25000" ySize="25000" />
      <DstRect xOff="0" yOff="100000" xSize="25000" ySize="25000" />
      <NODATA>-3.4028234663852886e+38</NODATA>
    </ComplexSource>
    <ComplexSource>
      <SourceFilename relativeToVRT="1">IslandsDEMv1.0_2x2m_zmasl_isn2016_45.tif</SourceFilename>
      <SourceBand>1</SourceBand>
      <SourceProperties RasterXSize="25000" RasterYSize="25000" DataType="Float32" BlockXSize="512" BlockYSize="512" />
      <SrcRect xOff="0" yOff="0" xSize="25000" ySize="25000" />
      <DstRect xOff="25000" yOff="100000" xSize="25000" ySize="25000" />
      <NODATA>-3.4028234663852886e+38</NODATA>
    </ComplexSource>
    <ComplexSource>
      <SourceFilename relativeToVRT="1">IslandsDEMv1.0_2x2m_zmasl_isn2016_46.tif</SourceFilename>
      <SourceBand>1</SourceBand>
      <SourceProperties RasterXSize="25000" RasterYSize="25000" DataType="Float32" BlockXSize="512" BlockYSize="512" />
      <SrcRect xOff="0" yOff="0" xSize="25000" ySize="25000" />
      <DstRect xOff="50000" yOff="100000" xSize="25000" ySize="25000" />
      <NODATA>-3.4028234663852886e+38</NODATA>
    </ComplexSource>
    <ComplexSource>
      <SourceFilename relativeToVRT="1">IslandsDEMv1.0_2x2m_zmasl_isn2016_47.tif</SourceFilename>
      <SourceBand>1</SourceBand>
      <SourceProperties RasterXSize="25000" RasterYSize="25000" DataType="Float32" BlockXSize="512" BlockYSize="512" />
      <SrcRect xOff="0" yOff="0" xSize="25000" ySize="25000" />
      <DstRect xOff="75000" yOff="100000" xSize="25000" ySize="25000" />
      <NODATA>-3.4028234663852886e+38</NODATA>
    </ComplexSource>
    <ComplexSource>
      <SourceFilename relativeToVRT="1">IslandsDEMv1.0_2x2m_zmasl_isn2016_48.tif</SourceFilename>
      <SourceBand>1</SourceBand>
      <SourceProperties RasterXSize="25000" RasterYSize="25000" DataType="Float32" BlockXSize="512" BlockYSize="512" />
      <SrcRect xOff="0" yOff="0" xSize="25000" ySize="25000" />
      <DstRect xOff="100000" yOff="100000" xSize="25000" ySize="25000" />
      <NODATA>-3.4028234663852886e+38</NODATA>
    </ComplexSource>
    <ComplexSource>
      <SourceFilename relativeToVRT="1">IslandsDEMv1.0_2x2m_zmasl_isn2016_49.tif</SourceFilename>
      <SourceBand>1</SourceBand>
      <SourceProperties RasterXSize="25000" RasterYSize="25000" DataType="Float32" BlockXSize="512" BlockYSize="512" />
      <SrcRect xOff="0" yOff="0" xSize="25000" ySize="25000" />
      <DstRect xOff="125000" yOff="100000" xSize="25000" ySize="25000" />
      <NODATA>-3.4028234663852886e+38</NODATA>
    </ComplexSource>
    <ComplexSource>
      <SourceFilename relativeToVRT="1">IslandsDEMv1.0_2x2m_zmasl_isn2016_50.tif</SourceFilename>
      <SourceBand>1</SourceBand>
      <SourceProperties RasterXSize="25000" RasterYSize="25000" DataType="Float32" BlockXSize="512" BlockYSize="512" />
      <SrcRect xOff="0" yOff="0" xSize="25000" ySize="25000" />
      <DstRect xOff="150000" yOff="100000" xSize="25000" ySize="25000" />
      <NODATA>-3.4028234663852886e+38</NODATA>
    </ComplexSource>
    <ComplexSource>
      <SourceFilename relativeToVRT="1">IslandsDEMv1.0_2x2m_zmasl_isn2016_51.tif</SourceFilename>
      <SourceBand>1</SourceBand>
      <SourceProperties RasterXSize="25000" RasterYSize="25000" DataType="Float32" BlockXSize="512" BlockYSize="512" />
      <SrcRect xOff="0" yOff="0" xSize="25000" ySize="25000" />
